BEGIN:VCALENDAR
VERSION:2.0
PRODID:-//久保商会 - ECPv6.2.9//NONSGML v1.0//EN
CALSCALE:GREGORIAN
METHOD:PUBLISH
X-WR-CALNAME:久保商会
X-ORIGINAL-URL:https://www.kuboshou.com
X-WR-CALDESC:久保商会 のイベント
REFRESH-INTERVAL;VALUE=DURATION:PT1H
X-Robots-Tag:noindex
X-PUBLISHED-TTL:PT1H
BEGIN:VTIMEZONE
TZID:Asia/Tokyo
BEGIN:STANDARD
TZOFFSETFROM:+0900
TZOFFSETTO:+0900
TZNAME:JST
DTSTART:20260101T000000
END:STANDARD
END:VTIMEZONE
BEGIN:VEVENT
DTSTART;TZID=Asia/Tokyo:20260218T110000
DTEND;TZID=Asia/Tokyo:20260221T180000
DTSTAMP:20260420T093846
CREATED:20260127T085211Z
LAST-MODIFIED:20260127T085211Z
UID:8674-1771412400-1771696800@www.kuboshou.com
SUMMARY:手のひらから生まれるもの
DESCRIPTION:2か月ほどの冬眠から目覚め\n1/28(水)円山展示室　スタートいたします \n1/28(水)〜2/28(土)\n“手のひらから生まれるもの” \n♠︎ARTESANA (服)\n@rabari_artesana\n⁡インドの手工芸、手紡ぎ手織りのカラコットン、ブロックプリント布で、民族衣装等を制作。機械による大量生産とは異なり、手仕事の製品には作り手一人一人の技術や工夫、そして何よりも『使い手に喜んでもらいたい』という心がこもっています。その『人の手』の跡が製品に人格やストーリーを与えます。\n〜人から人へ〜\n⁡\n♠︎Judiye(ファブリック)\n@judiye_fabric\nインドの手仕事 ヴィンテージカンタキルトのお店。\n古布（サリーなど）を一針一針時間をかけて一枚のキルトに。\n不揃いで細やかなハンドステッチやスレ（経年変化）から生み出される一点物の魅力を味わっていただきたいです。\n暮らしを彩るアイテムたちをお届けします。\n⁡\n♠︎roccia(布小物)\n@roccia.iwaiwa\nインドの美しいリボンを贅沢に使用した唯一無二のバッグや小物を制作。\n持つ人の個性を際立たせ、日常に彩りを与える作品作りをしています。\n⁡\n♠︎ODD装身具(アクセサリー)\n@odd_sousingu\n無垢の真鍮とシルバーを使い、ひとつひとつ手作業で仕立てたアクセサリー。\n存在感あるリングや華奢なデザイン、イヤカフやピアスを揃えました。\n使い込むほど色に深みが出て自分だけのアクセサリーに育っていきます。\n⁡\n♠︎Holly AMULET ACCESSORIES (アクセサリー)\n@ho_lly_\n月のかたちに想いを込めて。\n七宝や真鍮のアクセサリーは感性に還るアミュレット。\n日常に静かなきらめきを。\n⁡\n♠︎RAKUDA BAKE(焼菓子)\n@rakuda_bake\n北海道産を主原料とし、アメリカンベイク・ブリティッシュベイクの素朴で家庭的な味わいをベースに、少し繊細におしゃれにアレンジした焼き菓子を作っています。\nみなさまのお茶時間が、より楽しく素敵なひと時になるお手伝いができたら幸いです。\n⁡\n=円山展示室=\n札幌市中央区南1条西22丁目1-18\nBuild裏参道1階奥\n11:00-18:00 日月火定休日
URL:https://www.kuboshou.com/event/tenohira_04/
LOCATION:円山展示室\, 南1条西22丁目1-18\, 札幌市中央区\, 北海道\, 日本
ATTACH;FMTTYPE=image/jpeg:https://www.kuboshou.com/wp-content/uploads/2026/01/tenohirakara-umarerumono.jpg
END:VEVENT
BEGIN:VEVENT
DTSTART;TZID=Asia/Tokyo:20260225T110000
DTEND;TZID=Asia/Tokyo:20260228T180000
DTSTAMP:20260420T093846
CREATED:20260127T085304Z
LAST-MODIFIED:20260127T085304Z
UID:8683-1772017200-1772301600@www.kuboshou.com
SUMMARY:手のひらから生まれるもの
DESCRIPTION:2か月ほどの冬眠から目覚め\n1/28(水)円山展示室　スタートいたします \n1/28(水)〜2/28(土)\n“手のひらから生まれるもの” \n♠︎ARTESANA (服)\n@rabari_artesana\n⁡インドの手工芸、手紡ぎ手織りのカラコットン、ブロックプリント布で、民族衣装等を制作。機械による大量生産とは異なり、手仕事の製品には作り手一人一人の技術や工夫、そして何よりも『使い手に喜んでもらいたい』という心がこもっています。その『人の手』の跡が製品に人格やストーリーを与えます。\n〜人から人へ〜\n⁡\n♠︎Judiye(ファブリック)\n@judiye_fabric\nインドの手仕事 ヴィンテージカンタキルトのお店。\n古布（サリーなど）を一針一針時間をかけて一枚のキルトに。\n不揃いで細やかなハンドステッチやスレ（経年変化）から生み出される一点物の魅力を味わっていただきたいです。\n暮らしを彩るアイテムたちをお届けします。\n⁡\n♠︎roccia(布小物)\n@roccia.iwaiwa\nインドの美しいリボンを贅沢に使用した唯一無二のバッグや小物を制作。\n持つ人の個性を際立たせ、日常に彩りを与える作品作りをしています。\n⁡\n♠︎ODD装身具(アクセサリー)\n@odd_sousingu\n無垢の真鍮とシルバーを使い、ひとつひとつ手作業で仕立てたアクセサリー。\n存在感あるリングや華奢なデザイン、イヤカフやピアスを揃えました。\n使い込むほど色に深みが出て自分だけのアクセサリーに育っていきます。\n⁡\n♠︎Holly AMULET ACCESSORIES (アクセサリー)\n@ho_lly_\n月のかたちに想いを込めて。\n七宝や真鍮のアクセサリーは感性に還るアミュレット。\n日常に静かなきらめきを。\n⁡\n♠︎RAKUDA BAKE(焼菓子)\n@rakuda_bake\n北海道産を主原料とし、アメリカンベイク・ブリティッシュベイクの素朴で家庭的な味わいをベースに、少し繊細におしゃれにアレンジした焼き菓子を作っています。\nみなさまのお茶時間が、より楽しく素敵なひと時になるお手伝いができたら幸いです。\n⁡\n=円山展示室=\n札幌市中央区南1条西22丁目1-18\nBuild裏参道1階奥\n11:00-18:00 日月火定休日
URL:https://www.kuboshou.com/event/tenohira_05/
LOCATION:円山展示室\, 南1条西22丁目1-18\, 札幌市中央区\, 北海道\, 日本
ATTACH;FMTTYPE=image/jpeg:https://www.kuboshou.com/wp-content/uploads/2026/01/tenohirakara-umarerumono.jpg
END:VEVENT
BEGIN:VEVENT
DTSTART;TZID=Asia/Tokyo:20260318T110000
DTEND;TZID=Asia/Tokyo:20260321T180000
DTSTAMP:20260420T093846
CREATED:20260318T121751Z
LAST-MODIFIED:20260318T121751Z
UID:8726-1773831600-1774116000@www.kuboshou.com
SUMMARY:【3/18～5/22】円山展示室 FINAL『10坪に宿ったもの』
DESCRIPTION:【円山展示室FINAL】 \nときめきや感動　そんな\n「人の心が動く出会いをつくる場を」 \nそう思いスタートした円山展示室。 \nこの小さなスペースで交わした会話や様々な企画での経験は何にも代え難い想い出となりました。\n大きな宝物をありがとうございました。 \n3/18(水)から5/22(金)までは店舗では最後の企画展を開催いたします。 \nこの空間の締めくくりをご一緒できたら嬉しいです。 \n  \n\n\n  \n\n\n\n\n\n\n\n\n\n\nこの投稿をInstagramで見る\n\n\n\n\n\n\n\n\n\n\n\n\n\n\n\n\n\n\n\n\n\n\n  \n久保商会｜北海道イベント企画(@michikobeaute)がシェアした投稿 \n\n\n \n=円山展示室=\n札幌市中央区南1条西22丁目1-18\nBuild裏参道1階奥\n11:00-18:00\n日月火定休日
URL:https://www.kuboshou.com/event/maruyama_final_1/
LOCATION:円山展示室\, 南1条西22丁目1-18\, 札幌市中央区\, 北海道\, 日本
ATTACH;FMTTYPE=image/jpeg:https://www.kuboshou.com/wp-content/uploads/2026/03/tenzishitsu_final.jpg
END:VEVENT
BEGIN:VEVENT
DTSTART;TZID=Asia/Tokyo:20260325T110000
DTEND;TZID=Asia/Tokyo:20260328T180000
DTSTAMP:20260420T093846
CREATED:20260318T121920Z
LAST-MODIFIED:20260318T121920Z
UID:8739-1774436400-1774720800@www.kuboshou.com
SUMMARY:【3/18～5/22】円山展示室 FINAL『10坪に宿ったもの』
DESCRIPTION:【円山展示室FINAL】 \nときめきや感動　そんな\n「人の心が動く出会いをつくる場を」 \nそう思いスタートした円山展示室。 \nこの小さなスペースで交わした会話や様々な企画での経験は何にも代え難い想い出となりました。\n大きな宝物をありがとうございました。 \n3/18(水)から5/22(金)までは店舗では最後の企画展を開催いたします。 \nこの空間の締めくくりをご一緒できたら嬉しいです。 \n  \n\n\n  \n\n\n\n\n\n\n\n\n\n\nこの投稿をInstagramで見る\n\n\n\n\n\n\n\n\n\n\n\n\n\n\n\n\n\n\n\n\n\n\n  \n久保商会｜北海道イベント企画(@michikobeaute)がシェアした投稿 \n\n\n \n=円山展示室=\n札幌市中央区南1条西22丁目1-18\nBuild裏参道1階奥\n11:00-18:00\n日月火定休日
URL:https://www.kuboshou.com/event/maruyama_final_2/
LOCATION:円山展示室\, 南1条西22丁目1-18\, 札幌市中央区\, 北海道\, 日本
ATTACH;FMTTYPE=image/jpeg:https://www.kuboshou.com/wp-content/uploads/2026/03/tenzishitsu_final.jpg
END:VEVENT
BEGIN:VEVENT
DTSTART;TZID=Asia/Tokyo:20260401T110000
DTEND;TZID=Asia/Tokyo:20260404T180000
DTSTAMP:20260420T093846
CREATED:20260318T122116Z
LAST-MODIFIED:20260318T122116Z
UID:8748-1775041200-1775325600@www.kuboshou.com
SUMMARY:【3/18～5/22】円山展示室 FINAL『10坪に宿ったもの』
DESCRIPTION:【円山展示室FINAL】 \nときめきや感動　そんな\n「人の心が動く出会いをつくる場を」 \nそう思いスタートした円山展示室。 \nこの小さなスペースで交わした会話や様々な企画での経験は何にも代え難い想い出となりました。\n大きな宝物をありがとうございました。 \n3/18(水)から5/22(金)までは店舗では最後の企画展を開催いたします。 \nこの空間の締めくくりをご一緒できたら嬉しいです。 \n  \n\n\n  \n\n\n\n\n\n\n\n\n\n\nこの投稿をInstagramで見る\n\n\n\n\n\n\n\n\n\n\n\n\n\n\n\n\n\n\n\n\n\n\n  \n久保商会｜北海道イベント企画(@michikobeaute)がシェアした投稿 \n\n\n \n=円山展示室=\n札幌市中央区南1条西22丁目1-18\nBuild裏参道1階奥\n11:00-18:00\n日月火定休日
URL:https://www.kuboshou.com/event/maruyama_final_3/
LOCATION:円山展示室\, 南1条西22丁目1-18\, 札幌市中央区\, 北海道\, 日本
ATTACH;FMTTYPE=image/jpeg:https://www.kuboshou.com/wp-content/uploads/2026/03/tenzishitsu_final.jpg
END:VEVENT
BEGIN:VEVENT
DTSTART;TZID=Asia/Tokyo:20260408T110000
DTEND;TZID=Asia/Tokyo:20260411T180000
DTSTAMP:20260420T093846
CREATED:20260318T122313Z
LAST-MODIFIED:20260318T122313Z
UID:8757-1775646000-1775930400@www.kuboshou.com
SUMMARY:【3/18～5/22】円山展示室 FINAL『10坪に宿ったもの』
DESCRIPTION:【円山展示室FINAL】 \nときめきや感動　そんな\n「人の心が動く出会いをつくる場を」 \nそう思いスタートした円山展示室。 \nこの小さなスペースで交わした会話や様々な企画での経験は何にも代え難い想い出となりました。\n大きな宝物をありがとうございました。 \n3/18(水)から5/22(金)までは店舗では最後の企画展を開催いたします。 \nこの空間の締めくくりをご一緒できたら嬉しいです。 \n  \n\n\n  \n\n\n\n\n\n\n\n\n\n\nこの投稿をInstagramで見る\n\n\n\n\n\n\n\n\n\n\n\n\n\n\n\n\n\n\n\n\n\n\n  \n久保商会｜北海道イベント企画(@michikobeaute)がシェアした投稿 \n\n\n \n=円山展示室=\n札幌市中央区南1条西22丁目1-18\nBuild裏参道1階奥\n11:00-18:00\n日月火定休日
URL:https://www.kuboshou.com/event/maruyama_final_4/
LOCATION:円山展示室\, 南1条西22丁目1-18\, 札幌市中央区\, 北海道\, 日本
ATTACH;FMTTYPE=image/jpeg:https://www.kuboshou.com/wp-content/uploads/2026/03/tenzishitsu_final.jpg
END:VEVENT
BEGIN:VEVENT
DTSTART;TZID=Asia/Tokyo:20260415T110000
DTEND;TZID=Asia/Tokyo:20260418T180000
DTSTAMP:20260420T093846
CREATED:20260318T122545Z
LAST-MODIFIED:20260318T122545Z
UID:8766-1776250800-1776535200@www.kuboshou.com
SUMMARY:【3/18～5/22】円山展示室 FINAL『10坪に宿ったもの』
DESCRIPTION:【円山展示室FINAL】 \nときめきや感動　そんな\n「人の心が動く出会いをつくる場を」 \nそう思いスタートした円山展示室。 \nこの小さなスペースで交わした会話や様々な企画での経験は何にも代え難い想い出となりました。\n大きな宝物をありがとうございました。 \n3/18(水)から5/22(金)までは店舗では最後の企画展を開催いたします。 \nこの空間の締めくくりをご一緒できたら嬉しいです。 \n  \n\n\n  \n\n\n\n\n\n\n\n\n\n\nこの投稿をInstagramで見る\n\n\n\n\n\n\n\n\n\n\n\n\n\n\n\n\n\n\n\n\n\n\n  \n久保商会｜北海道イベント企画(@michikobeaute)がシェアした投稿 \n\n\n \n=円山展示室=\n札幌市中央区南1条西22丁目1-18\nBuild裏参道1階奥\n11:00-18:00\n日月火定休日
URL:https://www.kuboshou.com/event/maruyama_final_5/
LOCATION:円山展示室\, 南1条西22丁目1-18\, 札幌市中央区\, 北海道\, 日本
ATTACH;FMTTYPE=image/jpeg:https://www.kuboshou.com/wp-content/uploads/2026/03/tenzishitsu_final.jpg
END:VEVENT
BEGIN:VEVENT
DTSTART;TZID=Asia/Tokyo:20260422T110000
DTEND;TZID=Asia/Tokyo:20260425T180000
DTSTAMP:20260420T093846
CREATED:20260318T122828Z
LAST-MODIFIED:20260318T122828Z
UID:8775-1776855600-1777140000@www.kuboshou.com
SUMMARY:【3/18～5/22】円山展示室 FINAL『10坪に宿ったもの』
DESCRIPTION:【円山展示室FINAL】 \nときめきや感動　そんな\n「人の心が動く出会いをつくる場を」 \nそう思いスタートした円山展示室。 \nこの小さなスペースで交わした会話や様々な企画での経験は何にも代え難い想い出となりました。\n大きな宝物をありがとうございました。 \n3/18(水)から5/22(金)までは店舗では最後の企画展を開催いたします。 \nこの空間の締めくくりをご一緒できたら嬉しいです。 \n  \n\n\n  \n\n\n\n\n\n\n\n\n\n\nこの投稿をInstagramで見る\n\n\n\n\n\n\n\n\n\n\n\n\n\n\n\n\n\n\n\n\n\n\n  \n久保商会｜北海道イベント企画(@michikobeaute)がシェアした投稿 \n\n\n \n=円山展示室=\n札幌市中央区南1条西22丁目1-18\nBuild裏参道1階奥\n11:00-18:00\n日月火定休日
URL:https://www.kuboshou.com/event/maruyama_final_6/
LOCATION:円山展示室\, 南1条西22丁目1-18\, 札幌市中央区\, 北海道\, 日本
ATTACH;FMTTYPE=image/jpeg:https://www.kuboshou.com/wp-content/uploads/2026/03/tenzishitsu_final.jpg
END:VEVENT
END:VCALENDAR