BEGIN:VCALENDAR
VERSION:2.0
PRODID:-//久保商会 - ECPv6.2.9//NONSGML v1.0//EN
CALSCALE:GREGORIAN
METHOD:PUBLISH
X-WR-CALNAME:久保商会
X-ORIGINAL-URL:https://www.kuboshou.com
X-WR-CALDESC:久保商会 のイベント
REFRESH-INTERVAL;VALUE=DURATION:PT1H
X-Robots-Tag:noindex
X-PUBLISHED-TTL:PT1H
BEGIN:VTIMEZONE
TZID:Asia/Tokyo
BEGIN:STANDARD
TZOFFSETFROM:+0900
TZOFFSETTO:+0900
TZNAME:JST
DTSTART:20220101T000000
END:STANDARD
END:VTIMEZONE
BEGIN:VEVENT
DTSTART;TZID=Asia/Tokyo:20220218T130000
DTEND;TZID=Asia/Tokyo:20220306T180000
DTSTAMP:20260422T210130
CREATED:20220217T142401Z
LAST-MODIFIED:20220228T172110Z
UID:57-1645189200-1646589600@www.kuboshou.com
SUMMARY:円山展示室・オープニングイベント
DESCRIPTION:2月18日(金)13時OPEN\n“円山展示室” \n3/6迄開催の\nオープニングイベントは \n▪︎ manamint(東京) \n北海道産薄荷と甜菜糖を使った\nノンアルドリンクのシロップ?\nお味は2種類\nライムを合わせた“やっぱり”\nレモンを合わせた“さっぱり”\n⁡ @manamint8\n⁡\n▪︎ Ruise B(静岡)\nルワンダやケニアなど\nアフリカメイドアイテムを\nオリジナル生産\n品質がよくてかわいいものばかり\nシックなものカラフルなもの\nいろいろ展示\n⁡ @ruiseb_africa\n⁡\n▪︎ こねこねや(長野)\n北海道から沖縄、そして長野県で工房\n一度使ったらわかる使い勝手のよさと\n味まで変えてくれる器たち\n@kayokominowa\n⁡\n▪︎ chao\n四季ごと映えるガラスアクセサリー\n今回はたくさんの　焼き上がった\nガラスの中からお気に入りを選び\n自分の為のリングを作るオーダー会\n@chao.sorachi\n⁡\n▪︎ Viento\n南米パラグアイの伝統工芸刺繍\n繊細で美しい色とモチーフが特徴\n色とりどりを楽しめます\n@dalimaki\n⁡ \n▪︎ roccia\n刺繍リボンなどを使った布雑貨\nバッグやポーチ、ポシェットなど\n着こなしのスパイスになるアイテム\n⁡ @roccia.iwaiwa\n⁡\n▪︎ ひろいと\n英国で培ったガーデナーの\n知識と経験を活かし\n家庭でできる自然との暮らし方をご提案\n⁡ @hiroito.gardener\n⁡\n⁡\n『円山展示室』\n札幌市中央区南1条西22丁目1-18\nBuild裏参道1階\n隣にコインパーキング有り\n地下鉄円山公園徒歩6分 \n開催期間：2022年2月18日(金)13：00〜3月6日(日)18：00\n⁡\n営業時間：11:00〜18:00\n(2/18のみ13時OPEN！) \n定休日：2月は無休・3月は火曜休
URL:https://www.kuboshou.com/event/maruyamatenjishitsu-opening/
LOCATION:円山展示室\, 南1条西22丁目1-18\, 札幌市中央区\, 北海道\, 日本
ATTACH;FMTTYPE=image/jpeg:https://www.kuboshou.com/wp-content/uploads/2022/02/maruyama-tenjishitsu1.jpg
END:VEVENT
END:VCALENDAR